BEGIN:VCALENDAR
VERSION:2.0
PRODID:-//Texas 4-H Conference Center - ECPv6.15.20//NONSGML v1.0//EN
CALSCALE:GREGORIAN
METHOD:PUBLISH
X-WR-CALNAME:Texas 4-H Conference Center
X-ORIGINAL-URL:https://texas4hcenter.tamu.edu
X-WR-CALDESC:Events for Texas 4-H Conference Center
REFRESH-INTERVAL;VALUE=DURATION:PT1H
X-Robots-Tag:noindex
X-PUBLISHED-TTL:PT1H
BEGIN:VTIMEZONE
TZID:UTC
BEGIN:STANDARD
TZOFFSETFROM:+0000
TZOFFSETTO:+0000
TZNAME:UTC
DTSTART:20230101T000000
END:STANDARD
END:VTIMEZONE
BEGIN:VEVENT
DTSTART;TZID=UTC:20240726T150000
DTEND;TZID=UTC:20240728T110000
DTSTAMP:20260423T083915
CREATED:20230926T204327Z
LAST-MODIFIED:20230926T204327Z
UID:5788-1722006000-1722164400@texas4hcenter.tamu.edu
SUMMARY:West Texas Stanaland Reunion - Pavilion
DESCRIPTION:
URL:https://texas4hcenter.tamu.edu/event/west-texas-stanaland-reunion-pavilion-2/
LOCATION:Texas 4-H Conference Center\, 5600 FM 3021\, Brownwood \, TX\, 76801\, United States
END:VEVENT
END:VCALENDAR