BEGIN:VCALENDAR
VERSION:2.0
PRODID:-//Texas 4-H Conference Center - ECPv6.15.20//NONSGML v1.0//EN
CALSCALE:GREGORIAN
METHOD:PUBLISH
X-WR-CALNAME:Texas 4-H Conference Center
X-ORIGINAL-URL:https://texas4hcenter.tamu.edu
X-WR-CALDESC:Events for Texas 4-H Conference Center
REFRESH-INTERVAL;VALUE=DURATION:PT1H
X-Robots-Tag:noindex
X-PUBLISHED-TTL:PT1H
BEGIN:VTIMEZONE
TZID:UTC
BEGIN:STANDARD
TZOFFSETFROM:+0000
TZOFFSETTO:+0000
TZNAME:UTC
DTSTART:20250101T000000
END:STANDARD
END:VTIMEZONE
BEGIN:VEVENT
DTSTART;VALUE=DATE:20260423
DTEND;VALUE=DATE:20260424
DTSTAMP:20260421T233043
CREATED:20260317T194504Z
LAST-MODIFIED:20260317T194504Z
UID:6507-1776902400-1776988799@texas4hcenter.tamu.edu
SUMMARY:Rent A Center Meeting
DESCRIPTION:
URL:https://texas4hcenter.tamu.edu/event/rent-a-center-meeting-13/
LOCATION:Texas 4-H Conference Center\, 5600 FM 3021\, Brownwood \, TX\, 76801\, United States
END:VEVENT
BEGIN:VEVENT
DTSTART;VALUE=DATE:20260424
DTEND;VALUE=DATE:20260427
DTSTAMP:20260421T233043
CREATED:20260326T192551Z
LAST-MODIFIED:20260326T192551Z
UID:6512-1776988800-1777247999@texas4hcenter.tamu.edu
SUMMARY:Brewed Intentions (Weekend Retreat)
DESCRIPTION:
URL:https://texas4hcenter.tamu.edu/event/brewed-intentions-weekend-retreat/
LOCATION:Texas 4-H Conference Center\, 5600 FM 3021\, Brownwood \, TX\, 76801\, United States
END:VEVENT
BEGIN:VEVENT
DTSTART;VALUE=DATE:20260424
DTEND;VALUE=DATE:20260427
DTSTAMP:20260421T233043
CREATED:20260326T192738Z
LAST-MODIFIED:20260326T192738Z
UID:6513-1776988800-1777247999@texas4hcenter.tamu.edu
SUMMARY:Teen Camp Ambassador Training
DESCRIPTION:
URL:https://texas4hcenter.tamu.edu/event/teen-camp-ambassador-training/
LOCATION:Texas 4-H Conference Center\, 5600 FM 3021\, Brownwood \, TX\, 76801\, United States
END:VEVENT
BEGIN:VEVENT
DTSTART;VALUE=DATE:20260426
DTEND;VALUE=DATE:20260427
DTSTAMP:20260421T233043
CREATED:20260108T220514Z
LAST-MODIFIED:20260108T220514Z
UID:6471-1777161600-1777247999@texas4hcenter.tamu.edu
SUMMARY:Kairos Defense Group
DESCRIPTION:
URL:https://texas4hcenter.tamu.edu/event/kairos-defense-group-4/
LOCATION:Texas 4-H Conference Center\, 5600 FM 3021\, Brownwood \, TX\, 76801\, United States
END:VEVENT
BEGIN:VEVENT
DTSTART;VALUE=DATE:20260430
DTEND;VALUE=DATE:20260503
DTSTAMP:20260421T233043
CREATED:20251215T224449Z
LAST-MODIFIED:20251215T224449Z
UID:6437-1777507200-1777766399@texas4hcenter.tamu.edu
SUMMARY:Texas Society of Professional Engineers
DESCRIPTION:
URL:https://texas4hcenter.tamu.edu/event/texas-society-of-professional-engineers-3/
LOCATION:Texas 4-H Conference Center\, 5600 FM 3021\, Brownwood \, TX\, 76801\, United States
END:VEVENT
END:VCALENDAR